BEGIN:VCALENDAR
VERSION:2.0
PRODID:-//Queensland Private Tours - ECPv6.15.20//NONSGML v1.0//EN
CALSCALE:GREGORIAN
METHOD:PUBLISH
X-ORIGINAL-URL:https://www.ecosafaris.com.au
X-WR-CALDESC:Events for Queensland Private Tours
REFRESH-INTERVAL;VALUE=DURATION:PT1H
X-Robots-Tag:noindex
X-PUBLISHED-TTL:PT1H
BEGIN:VTIMEZONE
TZID:Australia/Brisbane
BEGIN:STANDARD
TZOFFSETFROM:+1000
TZOFFSETTO:+1000
TZNAME:AEST
DTSTART:20240101T000000
END:STANDARD
END:VTIMEZONE
BEGIN:VEVENT
DTSTART;TZID=Australia/Brisbane:20250620T133000
DTEND;TZID=Australia/Brisbane:20250620T173000
DTSTAMP:20260424T201640
CREATED:20240927T011838Z
LAST-MODIFIED:20250603T024411Z
UID:10000027-1750426200-1750440600@www.ecosafaris.com.au
SUMMARY:KOALA SANCTUARY AND MOUNT COOT-THA       20 June - Afternoon
DESCRIPTION:Back to All ICCB Tours\n\n\n\n\n\nCombine education\, conservation\, and the sheer joy of experiencing Australia’s incredible biodiversity. Learn about koala conservation efforts and the sanctuary’s important role in their protecting the koala. The Sanctuary is also home to many other native Aussie animals where you may pat and feed kangaroos. End at Mount Coot-tha for sweeping Brisbane views. \n\n\n\n\nLone Pine Koala Sanctuary – one of the ‘Top 10 Zoos in the World’ (AOL) – See over 100 koalas\, hand-feed kangaroos and see hundreds of other unique Aussie wildlife such as dingos\, wombats\, Tasmanian devils\, platypuses and emus.\n\n\n\nThis adventure combines education\, conservation\, and the sheer joy of experiencing Australia’s incredible biodiversity. Experience the magic of Australia’s wildlife with a trip to Brisbane’s Lone Pine Koala Sanctuary. Learn about koala conservation efforts and the sanctuary’s important role in protecting these iconic marsupials. The Sanctuary is also home to many other native Australian animals\, making it a perfect destination for nature lovers and wildlife enthusiasts who would love to feed and pat a kangaroo.\n\n\n\nTo finish the trip\, stop at the Mount Coot-tha Lookout to enjoy sweeping views of Brisbane and out to the islands.\n\n\n\n\nDuration: 4 hours\, includes entry to Sanctuary\, kangaroo food\, water and snacks \n\n\n\n\n\nNOTE: This tour is for attendees of the “ICCB 2025 – For the ‘Society of Conservation Biology’ Conference” and their family members. If you purchase tickets to this tour and you are not an attendee or family member of a conference attendee you will not be granted access to the tour.
URL:https://www.ecosafaris.com.au/event/koala-sanctuary-and-mount-coot-tha-20-june-afternoon/
CATEGORIES:ICCB 2025 Tours
ATTACH;FMTTYPE=image/jpeg:https://www.ecosafaris.com.au/wp-content/uploads/2024/09/Lone-Pine-Sanctuary-Koalas-960x1149-1-e1727398028902.jpg
END:VEVENT
BEGIN:VEVENT
DTSTART;TZID=Australia/Brisbane:20250620T163000
DTEND;TZID=Australia/Brisbane:20250620T183000
DTSTAMP:20260424T201640
CREATED:20240927T025514Z
LAST-MODIFIED:20250113T022415Z
UID:10000036-1750437000-1750444200@www.ecosafaris.com.au
SUMMARY:BRISBANE RIVER CITY KAYAKING        20 June Twilight
DESCRIPTION:Back to All ICCB Tours\n\n\n\n\n\nEmbark on a kayaking tour along the picturesque Brisbane River for an unparalleled grounding experience. Paddling through the calm waters offers a unique perspective of the city and a perfect blend of relaxation and exploration\, allowing you to connect with nature and unwind amidst the scenic beauty of Brisbane. \n\n\n\n\nGuided kayaking experience\n\n\n\nEmbark on a kayaking tour along the picturesque Brisbane River for an unparalleled grounding experience. Paddling through the calm waters offers a unique perspective of the city and a perfect blend of relaxation and exploration\, allowing you to connect with nature and unwind amidst the scenic beauty of Brisbane.\n\n\n\n\nDuration: 1.5 to 2 hours total with at least 70 minutes on the water. \n\n\n\n\n\n\n\n\n\n\n\n\n\n\n\n\n\nNOTE: This tour is for attendees of the “ICCB 2025 – For the ‘Society of Conservation Biology’ Conference” and their family members. If you purchase tickets to this tour and you are not an attendee or family member of a conference attendee you will not be granted access to the tour.
URL:https://www.ecosafaris.com.au/event/brisbane-river-city-kayaking-20-june-morning-2/
CATEGORIES:ICCB 2025 Tours
ATTACH;FMTTYPE=image/webp:https://www.ecosafaris.com.au/wp-content/uploads/2024/09/sunday-e1727403949623.webp
END:VEVENT
BEGIN:VEVENT
DTSTART;TZID=Australia/Brisbane:20250621T080000
DTEND;TZID=Australia/Brisbane:20250621T170000
DTSTAMP:20260424T201640
CREATED:20240927T042340Z
LAST-MODIFIED:20250513T232057Z
UID:10000041-1750492800-1750525200@www.ecosafaris.com.au
SUMMARY:UNESCO SPRINGBROOK RAINFORESTS & WATERFALLS 21 June
DESCRIPTION:Back to All ICCB Tours\n\n\n\n\n\nExperience Australia’s World Heritage-listed rainforests in the ‘Green Cauldron’. See a variety of waterfalls. Walk through with ancient ‘Gondwana’ forests and diverse ecosystems. Spot mini wallabies (pademelons). With breathtaking views of valleys and the Gold Coast. Enjoy a snack behind a waterfall by a rock pool\, and visit a cave with a waterfall flowing inside. \n\n\n\n\nDrive through the enchanting Numinbah Valley to the famous Natural Bridge – a truly unique rock and waterfall formation.\n\n\n\nPurlingbrook Falls – 107 metre (350 feet) falls flowing into a rainforested gorge including palms\, ferns and lilies – a link to Australia’s rainforest 100 million years ago.\n\n\n\nLook for ‘pademelons’ – Springbrook’s rainforest-dwelling mini wallabies.\n\n\n\nCanyon Lookout – Stunning view over the valleys out to Gold Coast’s beaches.\n\n\n\nTwin Falls walk – Amazing walk descending deep into the forest past numerous waterfalls\, streams\, rock pools and small caves. After walking behind the 40 metre (130 feet) ‘Twin Falls’\, pause at the rock pool at the base of these majestic falls for snacks and a drink.\n\n\n\nBest of All Lookout – Wander past the majestic 2000 year old Antarctic Beech trees in the ancient ‘Gondwana Rainforest’\, to the cliff tops with incredible views over the volcanic ‘Green Cauldron’\, Mt Warning and NSW coastline to Byron Bay.\n\n\n\nAs we drive\, learn how 23 million years of history made the Tweed Shield Volcano – an incredibly biodiverse region.\n\n\n\nNote: Most walks are short (700 m to 1300m)\, except the longest walk is 2.5km (1.5 miles). Guest can wait with bus if unable to complete any of the walks.\n\n\n\n\nDuration: 9 hours\, includes lunch\, water and snacks \n\n\n\n\n\n \n\n\n\nNOTE: This tour is for attendees of the “ICCB 2025 – For the ‘Society of Conservation Biology’ Conference” and their family members. If you purchase tickets to this tour and you are not an attendee or family member of a conference attendee you will not be granted access to the tour. \n\n\n\nIf this tour is full please contact us to be put on a waitlist.    \n\n\n\nhttps://www.ecosafaris.com.au/contact/          or           email info@ecosafaris.com.au
URL:https://www.ecosafaris.com.au/event/unesco-springbrook-rainforests-waterfalls-21-june/
CATEGORIES:ICCB 2025 Tours
ATTACH;FMTTYPE=image/jpeg:https://www.ecosafaris.com.au/wp-content/uploads/2024/09/Best-Of-All-Lookout-Springbrook-2-scaled.jpg
END:VEVENT
BEGIN:VEVENT
DTSTART;TZID=Australia/Brisbane:20250621T081000
DTEND;TZID=Australia/Brisbane:20250623T170000
DTSTAMP:20260424T201640
CREATED:20241004T022042Z
LAST-MODIFIED:20250513T224553Z
UID:10000047-1750493400-1750698000@www.ecosafaris.com.au
SUMMARY:3 DAY FAR NORTH QUEENSLAND TOUR
DESCRIPTION:Back to All ICCB Tours\n\n\n\nThis 3 Day Tour includes the best of Tropical North Queensland. Take your own Flight from Brisbane to Cairns on Friday 20 June and check in to Mantra Trilogy. You will be picked up each day and experience the amazing natural diversity of Tropical Rainforest\, Beach and the Amazing Great Barrier Reef. Evenings are your own to relax and choose a Restaurant near the hotel.  \n\n\n\n\nDAY 1\n\nExperience four of the most popular tourist attractions in Far North Queensland.\n\n\n\nJourney aboard the historic Kuranda Scenic Railway to Kuranda village. \n\n\n\nLeisurely explore Kuranda\, the famous ‘village in the rainforest’.\n\n\n\nTake a short walk to the famous Barron Falls.\n\n\n\n“Surround yourself with living colour” at the Kuranda Birdworld & Australian Butterfly Sanctuary.\n\n\n\nOn the return journey\, you will be gliding above the canopy of World Heritage rainforest and learn more about this ancient ecosystem with Skyrail Rainforest Cableway. \n\n\n\n\n\nDAY 2\n\nFull day tour to Green Island. Includes 45 minute ferry ride each way\, snorkelling\, forest walk on the island\, glass-bottom boat tour\, with marine biologist commentary.\n\n\n\nSnorkelling on the Great Barrier Reef straight off the Beach.\n\n\n\nForest walk on Green Island to view the unique Flora and Fauna\n\n\n\nGlass bottom or Semi-Submersible Boat tour\n\n\n\nPlenty of time to enjoy the Reef\, Beach and Forest\n\n\n\n\n\nDAY 3\n\nMossman Gorge Cultural Centre with indigenous art gallery\n\n\n\n‘Dreamtime walk’ with indigenous guide – a guided walks through the lush tropical rainforest.\n\n\n\nThere are a number of other beautiful\, easy walks from 300 metres to 2.4km\n\n\n\n2 hours to relax at the end of the day in Port Douglas – The “barefoot luxury capital of Tropical North Queensland”. A town known for its relaxed vice\, wonderful township with restaurants\, stylish shops\, marina\, lighthouse views and superb tropical beach.\n\n\n\n\n\n\nIncludes: \n\n\n\n\n3 nights accommodation at Mantra Trilogy on the Esplanade\n\n\n\nSame tour host for each day (staying with guests)\n\n\n\n3 full days of touring \n\n\n\n3 lunches\n\n\n\nWaters\, chocolates and health bars from the vehicle\n\n\n\nKuranda Railway\n\n\n\nKuranda Skyrail Rainforest Cableway\n\n\n\nKuranda Birdworld\n\n\n\nAustralian Butterfly Sanctuary\n\n\n\nReturn ferry to Green Island\n\n\n\nSnorkelling\n\n\n\nGlass-bottom boat tour\n\n\n\nGuided Mossman Gorge walk\n\n\n\n‘Dreamtime walk’ with indigenous guide\n\n\n\nWinter in North QLD is the best time to visit\, weather is generally calm and sunny with Average Temps of 26 deg C (79F).  \n\n\n\n\nThis does not include: \n\n\n\n\nFlights\n\n\n\nDinners (plenty of cafes/restaurants nearby)\n\n\n\nBreakfasts (plenty of cafes/restaurants nearby)\n\n\n\n\nDates:  \n\n\n\n\nSaturday\, June 21 till Monday\, June 23 \n\n\n\n(Pick up Saturday 21st at 8.10am. Drop off Monday 23rd at 5pm)\n\n\n\n(Note: Guests to take own flight to Cairns on Friday)\n\n\n\n(Accommodation is for check in Friday 20th \, and check out Monday 23rd)\n\n\n\n\nDuration: 3 Days \n\n\n\n\n\nNOTE: This tour is for attendees of the “ICCB 2025 – For the ‘Society of Conservation Biology’ Conference” and their family members. If you purchase tickets to this tour and you are not an attendee or family member of a conference attendee you will not be granted access to the tour.
URL:https://www.ecosafaris.com.au/event/3-day-far-north-queensland-tour/
CATEGORIES:ICCB 2025 Tours
ATTACH;FMTTYPE=image/jpeg:https://www.ecosafaris.com.au/wp-content/uploads/2024/10/green-island.jpg
END:VEVENT
BEGIN:VEVENT
DTSTART;TZID=Australia/Brisbane:20250621T081500
DTEND;TZID=Australia/Brisbane:20250621T181000
DTSTAMP:20260424T201640
CREATED:20250522T025730Z
LAST-MODIFIED:20250602T054012Z
UID:10000053-1750493700-1750529400@www.ecosafaris.com.au
SUMMARY:STRADBROKE ISLAND 21 June
DESCRIPTION:Back to All ICCB Tours\n\n\n\n\n\nA stunning island getaway where you’ll feel a million miles away. Surrounded by stunning beaches that Australia’s famous for\, Stradbroke Island is a nature-lovers paradise. Keep a lookout for a variety of Aussie wildlife\, such as kangaroos\, dolphins and maybe a koala! Spot whales from May to October. Take the ‘Bluff Boardwalk’ around Point Lookout Headland with wonderful ocean views. Walk the long\, sandy beaches. All on the world’s 2nd largest sand island. (Note that although seeing wildlife is very likely\, nothing can be guaranteed.) \n\n\n\n\nFerry ride across beautiful Moreton Bay.\n\n\n\nTea Tree Lake Conservation Area – Swim in the healthy tea tree water with a beach of pristine snow-white sand.\n\n\n\nStop to relax where you choose; throw a boomerang; climb a small sand dune for lovely view\, or just explore the local beach.\n\n\n\nLunch high over the water with lovely ocean views.\n\n\n\nBluff Walk high on Point Lookout – with stunning ocean views over bays and beaches\, spot dolphins\, turtles\, sting rays and whales in season.\n\n\n\nAmity Point – Look out for kangaroos and possibly even koalas in the wild!\n\n\n\nVisit a local jetty looking towards Brisbane. Spot pelicans – and possibly even dolphins swimming beneath you.\n\n\n\n\nDuration: 10 hours\, includes Lunch\, drink\, water and snacks \n\n\n\n\n\nNOTE: This tour is for attendees of the “ICCB 2025 – For the ‘Society of Conservation Biology’ Conference” and their family members. If you purchase tickets to this tour and you are not an attendee or family member of a conference attendee you will not be granted access to the tour.
URL:https://www.ecosafaris.com.au/event/stradbroke-island-21-june/
CATEGORIES:ICCB 2025 Tours
ATTACH;FMTTYPE=image/jpeg:https://www.ecosafaris.com.au/wp-content/uploads/2025/05/IMG_7811-2.jpg
END:VEVENT
BEGIN:VEVENT
DTSTART;TZID=Australia/Brisbane:20250621T093000
DTEND;TZID=Australia/Brisbane:20250621T153000
DTSTAMP:20260424T201640
CREATED:20240927T041528Z
LAST-MODIFIED:20250610T043855Z
UID:10000040-1750498200-1750519800@www.ecosafaris.com.au
SUMMARY:TAMBORINE MOUNTAIN 21 June
DESCRIPTION:Back to All ICCB Tours\n\n\n\n\n\nA mountain hideaway with lush\, sub-tropical rainforest\, sparkling clean air\, and stunning views. Take a guided eco-walk through Curtis Falls Rainforest Circuit with superb strangler figs and ending at a picturesque waterfall with rock pool. Enjoy lunch at a historic hotel. Option of either tastings at an eclectic distillery or strolling through the mountain’s village. \n\n\n\n\nHang Gliding Lookout with stunning views west over the Scenic Rim.\n\n\n\nGuided eco-walk through Curtis Falls Rainforest Circuit – A sub-tropical oasis with numerous species such as piccabean palms and the superb strangler figs. Includes a walk along a delightful creek and a pretty waterfall & rockpool (scene of the movie ‘Ticket to Paradise’).\n\n\n\nLunch at a historic hotel with lovely valley views.\n\n\n\nYour choice of a) Tastings from an award-winning eclectic distillery\, or b) stroll through Tamborine’s ‘Gallery Walk’ – a cute Aussie mountain village with arts\, crafts\, cafes & gifts.\n\n\n\n‘Eagles Close’ for breathtaking views over the Gold Coast\n\n\n\n\nDuration: 6 hours\, includes Lunch\, drink\, water and snacks \n\n\n\n\n\nNOTE: This tour is for attendees of the “ICCB 2025 – For the ‘Society of Conservation Biology’ Conference” and their family members. If you purchase tickets to this tour and you are not an attendee or family member of a conference attendee you will not be granted access to the tour.
URL:https://www.ecosafaris.com.au/event/tamborine-mountain-21-june/
CATEGORIES:ICCB 2025 Tours
ATTACH;FMTTYPE=image/jpeg:https://www.ecosafaris.com.au/wp-content/uploads/2024/09/Curtis-Falls-215-x-165-medium.jpg
END:VEVENT
BEGIN:VEVENT
DTSTART;TZID=Australia/Brisbane:20250622T080000
DTEND;TZID=Australia/Brisbane:20250622T170000
DTSTAMP:20260424T201640
CREATED:20240927T042631Z
LAST-MODIFIED:20250513T232230Z
UID:10000042-1750579200-1750611600@www.ecosafaris.com.au
SUMMARY:UNESCO SPRINGBROOK RAINFORESTS & WATERFALLS 22 June
DESCRIPTION:Back to All ICCB Tours\n\n\n\n\n\nExperience Australia’s World Heritage-listed rainforests in the ‘Green Cauldron’. See a variety of waterfalls. Walk through with ancient ‘Gondwana’ forests and diverse ecosystems. Spot mini wallabies (pademelons). With breathtaking views of valleys and the Gold Coast. Enjoy a snack behind a waterfall by a rock pool\, and visit a cave with a waterfall flowing inside. \n\n\n\n\nDrive through the enchanting Numinbah Valley to the famous Natural Bridge – a truly unique rock and waterfall formation.\n\n\n\nPurlingbrook Falls – 107 metre (350 feet) falls flowing into a rainforested gorge including palms\, ferns and lilies – a link to Australia’s rainforest 100 million years ago.\n\n\n\nLook for ‘pademelons’ – Springbrook’s rainforest-dwelling mini wallabies.\n\n\n\nCanyon Lookout – Stunning view over the valleys out to Gold Coast’s beaches.\n\n\n\nTwin Falls walk – Amazing walk descending deep into the forest past numerous waterfalls\, streams\, rock pools and small caves. After walking behind the 40 metre (130 feet) ‘Twin Falls’\, pause at the rock pool at the base of these majestic falls for snacks and a drink.\n\n\n\nBest of All Lookout – Wander past the majestic 2000 year old Antarctic Beech trees in the ancient ‘Gondwana Rainforest’\, to the cliff tops with incredible views over the volcanic ‘Green Cauldron’\, Mt Warning and NSW coastline to Byron Bay.\n\n\n\nAs we drive\, learn how 23 million years of history made the Tweed Shield Volcano – an incredibly biodiverse region.\n\n\n\nNote: Most walks are short (700 m to 1300m)\, except the longest walk is 2.5km (1.5 miles). Guest can wait with bus if unable to complete any of the walks.\n\n\n\n\nDuration: 9 hours\, includes lunch\, water and snacks \n\n\n\n\n\nNOTE: This tour is for attendees of the “ICCB 2025 – For the ‘Society of Conservation Biology’ Conference” and their family members. If you purchase tickets to this tour and you are not an attendee or family member of a conference attendee you will not be granted access to the tour. \n\n\n\nIf this tour is full please contact us to be put on a waitlist. \n\n\n\nhttps://www.ecosafaris.com.au/contact/ or email info@ecosafaris.com.au
URL:https://www.ecosafaris.com.au/event/unesco-springbrook-rainforests-waterfalls-22-june/
CATEGORIES:ICCB 2025 Tours
ATTACH;FMTTYPE=image/jpeg:https://www.ecosafaris.com.au/wp-content/uploads/2024/09/Best-Of-All-Lookout-Springbrook-2-scaled.jpg
END:VEVENT
END:VCALENDAR